BEGIN:VCALENDAR
VERSION:2.0
PRODID:-//Friends of Wisconsin Interstate Park and Straight Lake State Park - ECPv6.15.20//NONSGML v1.0//EN
CALSCALE:GREGORIAN
METHOD:PUBLISH
X-WR-CALNAME:Friends of Wisconsin Interstate Park and Straight Lake State Park
X-ORIGINAL-URL:https://friendsofinterstateandstraightlakeparks.org
X-WR-CALDESC:Events for Friends of Wisconsin Interstate Park and Straight Lake State Park
REFRESH-INTERVAL;VALUE=DURATION:PT1H
X-Robots-Tag:noindex
X-PUBLISHED-TTL:PT1H
BEGIN:VTIMEZONE
TZID:America/Chicago
BEGIN:DAYLIGHT
TZOFFSETFROM:-0600
TZOFFSETTO:-0500
TZNAME:CDT
DTSTART:20250309T080000
END:DAYLIGHT
BEGIN:STANDARD
TZOFFSETFROM:-0500
TZOFFSETTO:-0600
TZNAME:CST
DTSTART:20251102T070000
END:STANDARD
BEGIN:DAYLIGHT
TZOFFSETFROM:-0600
TZOFFSETTO:-0500
TZNAME:CDT
DTSTART:20260308T080000
END:DAYLIGHT
BEGIN:STANDARD
TZOFFSETFROM:-0500
TZOFFSETTO:-0600
TZNAME:CST
DTSTART:20261101T070000
END:STANDARD
BEGIN:DAYLIGHT
TZOFFSETFROM:-0600
TZOFFSETTO:-0500
TZNAME:CDT
DTSTART:20270314T080000
END:DAYLIGHT
BEGIN:STANDARD
TZOFFSETFROM:-0500
TZOFFSETTO:-0600
TZNAME:CST
DTSTART:20271107T070000
END:STANDARD
END:VTIMEZONE
BEGIN:VEVENT
DTSTART;TZID=America/Chicago:20260418T090000
DTEND;TZID=America/Chicago:20260418T120000
DTSTAMP:20260422T124439
CREATED:20260322T135004Z
LAST-MODIFIED:20260322T135004Z
UID:1593-1776502800-1776513600@friendsofinterstateandstraightlakeparks.org
SUMMARY:Work\, Play\, Earth Day!
DESCRIPTION:Help park staff get the North Campground ready for the upcoming season! Volunteer activities will include raking\, garbage clean up\, fire ring cleaning\, picking up branches\, placing wood chips on campsites and tree planting. Volunteers should bring water\, snacks\, work clothes including\, pants\, boots\, socks\, gloves\, eye protection\, a hat and any other clothing items needed for outside work. Park staff will provide needed supplies and equipment. Volunteer work will be modified for adverse weather. \nThis event will be held rain or shine. \nGroup/Program Hosting: Interstate Park\nEvent Location: Interstate Park – Pothole Trail/North Campground\nEvent Contact: Matthew Densow\, matthew.densow@wisconsin.gov\, 715-483-3747
URL:https://friendsofinterstateandstraightlakeparks.org/event/work-play-earth-day/
LOCATION:Interstate Park\, 1275 State Hwy 35\, St. Croix Falls\, WI\, WI\, 54024\, United States
CATEGORIES:Volunteer
ATTACH;FMTTYPE=image/jpeg:https://friendsofinterstateandstraightlakeparks.org/wp-content/uploads/2025/11/clean-up-2.jpg
END:VEVENT
END:VCALENDAR