BEGIN:VCALENDAR
VERSION:2.0
PRODID:-//Friends of Wisconsin Interstate Park and Straight Lake State Park - ECPv6.15.20//NONSGML v1.0//EN
CALSCALE:GREGORIAN
METHOD:PUBLISH
X-WR-CALNAME:Friends of Wisconsin Interstate Park and Straight Lake State Park
X-ORIGINAL-URL:https://friendsofinterstateandstraightlakeparks.org
X-WR-CALDESC:Events for Friends of Wisconsin Interstate Park and Straight Lake State Park
REFRESH-INTERVAL;VALUE=DURATION:PT1H
X-Robots-Tag:noindex
X-PUBLISHED-TTL:PT1H
BEGIN:VTIMEZONE
TZID:America/Chicago
BEGIN:DAYLIGHT
TZOFFSETFROM:-0600
TZOFFSETTO:-0500
TZNAME:CDT
DTSTART:20250309T080000
END:DAYLIGHT
BEGIN:STANDARD
TZOFFSETFROM:-0500
TZOFFSETTO:-0600
TZNAME:CST
DTSTART:20251102T070000
END:STANDARD
BEGIN:DAYLIGHT
TZOFFSETFROM:-0600
TZOFFSETTO:-0500
TZNAME:CDT
DTSTART:20260308T080000
END:DAYLIGHT
BEGIN:STANDARD
TZOFFSETFROM:-0500
TZOFFSETTO:-0600
TZNAME:CST
DTSTART:20261101T070000
END:STANDARD
BEGIN:DAYLIGHT
TZOFFSETFROM:-0600
TZOFFSETTO:-0500
TZNAME:CDT
DTSTART:20270314T080000
END:DAYLIGHT
BEGIN:STANDARD
TZOFFSETFROM:-0500
TZOFFSETTO:-0600
TZNAME:CST
DTSTART:20271107T070000
END:STANDARD
END:VTIMEZONE
BEGIN:VEVENT
DTSTART;TZID=America/Chicago:20260502T100000
DTEND;TZID=America/Chicago:20260502T120000
DTSTAMP:20260422T124433
CREATED:20260228T160716Z
LAST-MODIFIED:20260321T204708Z
UID:1524-1777716000-1777723200@friendsofinterstateandstraightlakeparks.org
SUMMARY:Spring Flora Hike - Straight Lake State Park
DESCRIPTION:  \n\n\n\n \nJoin Botanist\, Barb Delaney for a spring hike at Straight Lake State Park!\nBarb is a retired botanist who specializes in the native and rare plants of Minnesota and Wisconsin. Barb will lead us on a casual hike on the trails and help us identify the spring ephemerals currently in bloom. Meet at Straight Lake State Park main parking area at 2700 120th Street\, Luck\, WI. \nPlease dress for the weather\, including rain gear if needed. These hikes will only be called off if severe weather is imminent. A valid Wisconsin State Park Pass is required.\n\n\n\n 
URL:https://friendsofinterstateandstraightlakeparks.org/event/spring-flora-hike-straight-lake-state-park/
LOCATION:Straight Lake State Park\, 2700 120th St.\, Luck\, WI\, 54853\, United States
CATEGORIES:Flora,Hiking
ATTACH;FMTTYPE=image/jpeg:https://friendsofinterstateandstraightlakeparks.org/wp-content/uploads/2026/02/Trillium.jpg
END:VEVENT
END:VCALENDAR