BEGIN:VCALENDAR
VERSION:2.0
PRODID:-//Friends of Wisconsin Interstate Park and Straight Lake State Park - ECPv6.15.20//NONSGML v1.0//EN
CALSCALE:GREGORIAN
METHOD:PUBLISH
X-WR-CALNAME:Friends of Wisconsin Interstate Park and Straight Lake State Park
X-ORIGINAL-URL:https://friendsofinterstateandstraightlakeparks.org
X-WR-CALDESC:Events for Friends of Wisconsin Interstate Park and Straight Lake State Park
REFRESH-INTERVAL;VALUE=DURATION:PT1H
X-Robots-Tag:noindex
X-PUBLISHED-TTL:PT1H
BEGIN:VTIMEZONE
TZID:America/Chicago
BEGIN:DAYLIGHT
TZOFFSETFROM:-0600
TZOFFSETTO:-0500
TZNAME:CDT
DTSTART:20240310T080000
END:DAYLIGHT
BEGIN:STANDARD
TZOFFSETFROM:-0500
TZOFFSETTO:-0600
TZNAME:CST
DTSTART:20241103T070000
END:STANDARD
BEGIN:DAYLIGHT
TZOFFSETFROM:-0600
TZOFFSETTO:-0500
TZNAME:CDT
DTSTART:20250309T080000
END:DAYLIGHT
BEGIN:STANDARD
TZOFFSETFROM:-0500
TZOFFSETTO:-0600
TZNAME:CST
DTSTART:20251102T070000
END:STANDARD
BEGIN:DAYLIGHT
TZOFFSETFROM:-0600
TZOFFSETTO:-0500
TZNAME:CDT
DTSTART:20260308T080000
END:DAYLIGHT
BEGIN:STANDARD
TZOFFSETFROM:-0500
TZOFFSETTO:-0600
TZNAME:CST
DTSTART:20261101T070000
END:STANDARD
BEGIN:DAYLIGHT
TZOFFSETFROM:-0600
TZOFFSETTO:-0500
TZNAME:CDT
DTSTART:20270314T080000
END:DAYLIGHT
BEGIN:STANDARD
TZOFFSETFROM:-0500
TZOFFSETTO:-0600
TZNAME:CST
DTSTART:20271107T070000
END:STANDARD
END:VTIMEZONE
BEGIN:VEVENT
DTSTART;TZID=America/Chicago:20260424T100000
DTEND;TZID=America/Chicago:20260424T113000
DTSTAMP:20260422T170349
CREATED:20260326T222718Z
LAST-MODIFIED:20260326T222718Z
UID:1689-1777024800-1777030200@friendsofinterstateandstraightlakeparks.org
SUMMARY:Magnets - Nature Storytime
DESCRIPTION:How do magnets work? What are they used for? \nNature Storytime is led by volunteer Kathy S. and includes a short story and fun activities. Recommended for children ages 3 – 9. All children must be accompanied by an adult. Please dress appropriately for the weather\, as some activities might be outside. This is a free event\, but a vehicle admission sticker is required for entry into the park.
URL:https://friendsofinterstateandstraightlakeparks.org/event/magnets-nature-storytime/
LOCATION:Interstate Park – Ice Age Center\, 1275 State Hwy 35\, St. Croix Falls\, WI\, WI\, 54024\, United States
CATEGORIES:Nature Story Time,Program
ATTACH;FMTTYPE=image/png:https://friendsofinterstateandstraightlakeparks.org/wp-content/uploads/2026/03/magnet.png
END:VEVENT
BEGIN:VEVENT
DTSTART;TZID=America/Chicago:20260418T090000
DTEND;TZID=America/Chicago:20260418T120000
DTSTAMP:20260422T170349
CREATED:20260322T135004Z
LAST-MODIFIED:20260322T135004Z
UID:1593-1776502800-1776513600@friendsofinterstateandstraightlakeparks.org
SUMMARY:Work\, Play\, Earth Day!
DESCRIPTION:Help park staff get the North Campground ready for the upcoming season! Volunteer activities will include raking\, garbage clean up\, fire ring cleaning\, picking up branches\, placing wood chips on campsites and tree planting. Volunteers should bring water\, snacks\, work clothes including\, pants\, boots\, socks\, gloves\, eye protection\, a hat and any other clothing items needed for outside work. Park staff will provide needed supplies and equipment. Volunteer work will be modified for adverse weather. \nThis event will be held rain or shine. \nGroup/Program Hosting: Interstate Park\nEvent Location: Interstate Park – Pothole Trail/North Campground\nEvent Contact: Matthew Densow\, matthew.densow@wisconsin.gov\, 715-483-3747
URL:https://friendsofinterstateandstraightlakeparks.org/event/work-play-earth-day/
LOCATION:Interstate Park\, 1275 State Hwy 35\, St. Croix Falls\, WI\, WI\, 54024\, United States
CATEGORIES:Volunteer
ATTACH;FMTTYPE=image/jpeg:https://friendsofinterstateandstraightlakeparks.org/wp-content/uploads/2025/11/clean-up-2.jpg
END:VEVENT
BEGIN:VEVENT
DTSTART;TZID=America/Chicago:20260417T100000
DTEND;TZID=America/Chicago:20260417T113000
DTSTAMP:20260422T170349
CREATED:20260326T222005Z
LAST-MODIFIED:20260326T222005Z
UID:1686-1776420000-1776425400@friendsofinterstateandstraightlakeparks.org
SUMMARY:Chemical Reactions - Nature Storytime
DESCRIPTION:We will learn about chemical reactions by making a volcano with baking soda and vinegar. We will also go for a hike. \nNature Storytime is led by volunteer Kathy S. and includes a short story and fun activities. Recommended for children ages 3 – 9. All children must be accompanied by an adult. Please dress appropriately for the weather\, as some activities might be outside. This is a free event\, but a vehicle admission sticker is required for entry into the park.
URL:https://friendsofinterstateandstraightlakeparks.org/event/chemical-reactions-nature-storytime/
LOCATION:Interstate Park – Ice Age Center\, 1275 State Hwy 35\, St. Croix Falls\, WI\, WI\, 54024\, United States
CATEGORIES:Nature Story Time,Program
ATTACH;FMTTYPE=image/jpeg:https://friendsofinterstateandstraightlakeparks.org/wp-content/uploads/2026/03/bakingsoda-vinegar.jpg
END:VEVENT
BEGIN:VEVENT
DTSTART;TZID=America/Chicago:20260410T100000
DTEND;TZID=America/Chicago:20260410T113000
DTSTAMP:20260422T170349
CREATED:20260326T221413Z
LAST-MODIFIED:20260326T221413Z
UID:1683-1775815200-1775820600@friendsofinterstateandstraightlakeparks.org
SUMMARY:Leaves - Nature Storytime
DESCRIPTION:Why do plants need leaves? We will plant seeds and be able to watch leaves grow. \nNature Storytime is led by volunteer Kathy S. and includes a short story and fun activities. Recommended for children ages 3 – 9. All children must be accompanied by an adult. Please dress appropriately for the weather\, as some activities might be outside. This is a free event\, but a vehicle admission sticker is required for entry into the park.
URL:https://friendsofinterstateandstraightlakeparks.org/event/leaves-nature-storytime/
LOCATION:Interstate Park – Ice Age Center\, 1275 State Hwy 35\, St. Croix Falls\, WI\, WI\, 54024\, United States
CATEGORIES:Nature Story Time,Program
ATTACH;FMTTYPE=image/jpeg:https://friendsofinterstateandstraightlakeparks.org/wp-content/uploads/2026/03/maple-leaves.jpg
END:VEVENT
BEGIN:VEVENT
DTSTART;TZID=America/Chicago:20260403T100000
DTEND;TZID=America/Chicago:20260403T113000
DTSTAMP:20260422T170349
CREATED:20260326T220823Z
LAST-MODIFIED:20260326T220823Z
UID:1680-1775210400-1775215800@friendsofinterstateandstraightlakeparks.org
SUMMARY:Fire Safety - Nature Storytime
DESCRIPTION:Meet at the Ice Age Center. We will then head to the Ravine Trail Shelter to make s’mores and hike. We will learn how to be safe with fire. \nNature Storytime is led by volunteer Kathy S. and includes a short story and fun activities. Recommended for children ages 3 – 9. All children must be accompanied by an adult. Please dress appropriately for the weather\, as some activities might be outside. This is a free event\, but a vehicle admission sticker is required for entry into the park.
URL:https://friendsofinterstateandstraightlakeparks.org/event/fire-safety-nature-storytime/
LOCATION:Interstate Park – Ice Age Center\, 1275 State Hwy 35\, St. Croix Falls\, WI\, WI\, 54024\, United States
CATEGORIES:Nature Story Time,Program
ATTACH;FMTTYPE=image/jpeg:https://friendsofinterstateandstraightlakeparks.org/wp-content/uploads/2026/03/Fire.jpg
END:VEVENT
BEGIN:VEVENT
DTSTART;TZID=America/Chicago:20260321T100000
DTEND;TZID=America/Chicago:20260321T120000
DTSTAMP:20260422T170349
CREATED:20260303T025500Z
LAST-MODIFIED:20260320T213859Z
UID:1219-1774087200-1774094400@friendsofinterstateandstraightlakeparks.org
SUMMARY:Build a Bluebird House
DESCRIPTION:Dive into the Delightful World of Bluebirds and Craft Your Very Own Bluebird House!\nPRESENTATIONCome and learn about bluebirds during this free presentation by Lowell Peterson\, the St. Croix County representative for the Bluebird Restoration Association of Wisconsin in the Ice Age Center Auditorium.  Following the presentation:  \nBUILD YOUR OWN BIRDHOUSE:Cost: $15.00 \nThere are still bluebird house kits available for purchase at the park.  They will be sold\, while supplies last\, on a first come\, first served basis on Saturday\, March 21.  \nFollowing the program\, we invite you to take some time to build your bluebird house in the Ice Age Center Classroom with the assistance of friends volunteers\, or feel free to bring the kit home to complete on your own time. \nREMINDERS \n\nThe auditorium program is free\, but a vehicle admission sticker is required to enter the park.\nChildren need to be accompanied by an adult.\n\nA special thank you to friends volunteers Roger J. and Dwight F. for preparing the bluebird house kits.
URL:https://friendsofinterstateandstraightlakeparks.org/event/build-a-bluebird-house/
LOCATION:Interstate Park – Ice Age Center\, 1275 State Hwy 35\, St. Croix Falls\, WI\, WI\, 54024\, United States
CATEGORIES:Program
ATTACH;FMTTYPE=image/jpeg:https://friendsofinterstateandstraightlakeparks.org/wp-content/uploads/2026/02/bluebird-e1770088562542.jpg
END:VEVENT
BEGIN:VEVENT
DTSTART;TZID=America/Chicago:20260320T100000
DTEND;TZID=America/Chicago:20260320T113000
DTSTAMP:20260422T170349
CREATED:20260223T024242Z
LAST-MODIFIED:20260223T024242Z
UID:1501-1774000800-1774006200@friendsofinterstateandstraightlakeparks.org
SUMMARY:Birds! (Get Ready For Spring) - Nature Storytime
DESCRIPTION:Why do birds make nests? Where do they make nests? What kinds of nests are there? \nNature Storytime is led by volunteer Kathy S. and includes a short story and fun activities. Recommended for children ages 3 – 9. All children must be accompanied by an adult. Please dress appropriately for the weather\, as some activities might be outside.
URL:https://friendsofinterstateandstraightlakeparks.org/event/birds-get-ready-for-spring-nature-storytime/
LOCATION:Interstate Park – Ice Age Center\, 1275 State Hwy 35\, St. Croix Falls\, WI\, WI\, 54024\, United States
CATEGORIES:Nature Story Time,Program
ATTACH;FMTTYPE=image/jpeg:https://friendsofinterstateandstraightlakeparks.org/wp-content/uploads/2026/02/Bird-Nest.jpg
END:VEVENT
BEGIN:VEVENT
DTSTART;TZID=America/Chicago:20260313T100000
DTEND;TZID=America/Chicago:20260313T113000
DTSTAMP:20260422T170349
CREATED:20260223T023507Z
LAST-MODIFIED:20260223T024308Z
UID:1498-1773396000-1773401400@friendsofinterstateandstraightlakeparks.org
SUMMARY:Wild Rice - Nature Storytime
DESCRIPTION:Where do you find it? How does it grow? How is it harvested? \nNature Storytime is led by volunteer Kathy S. and includes a short story and fun activities. Recommended for children ages 3 – 9. All children must be accompanied by an adult. Please dress appropriately for the weather\, as some activities might be outside.
URL:https://friendsofinterstateandstraightlakeparks.org/event/wild-rice-nature-storytime/
LOCATION:Interstate Park – Ice Age Center\, 1275 State Hwy 35\, St. Croix Falls\, WI\, WI\, 54024\, United States
CATEGORIES:Nature Story Time,Program
ATTACH;FMTTYPE=image/jpeg:https://friendsofinterstateandstraightlakeparks.org/wp-content/uploads/2026/02/Wild-Rice.jpg
END:VEVENT
BEGIN:VEVENT
DTSTART;TZID=America/Chicago:20260306T100000
DTEND;TZID=America/Chicago:20260306T113000
DTSTAMP:20260422T170349
CREATED:20260223T022846Z
LAST-MODIFIED:20260223T022846Z
UID:1495-1772791200-1772796600@friendsofinterstateandstraightlakeparks.org
SUMMARY:Water! - Nature Storytime
DESCRIPTION:Let’s learn about water!  Where does it come from and how can we take care of it?  What is an aquifer? \nNature Storytime is led by volunteer Kathy S. and includes a short story and fun activities. Recommended for children ages 3 – 9. All children must be accompanied by an adult. Please dress appropriately for the weather\, as some activities might be outside.
URL:https://friendsofinterstateandstraightlakeparks.org/event/water-nature-storytime/
LOCATION:Interstate Park – Ice Age Center\, 1275 State Hwy 35\, St. Croix Falls\, WI\, WI\, 54024\, United States
CATEGORIES:Nature Story Time,Program
ATTACH;FMTTYPE=image/jpeg:https://friendsofinterstateandstraightlakeparks.org/wp-content/uploads/2026/02/Water-scaled.jpg
END:VEVENT
BEGIN:VEVENT
DTSTART;TZID=America/Chicago:20260227T100000
DTEND;TZID=America/Chicago:20260227T113000
DTSTAMP:20260422T170349
CREATED:20260208T181838Z
LAST-MODIFIED:20260208T181838Z
UID:1231-1772186400-1772191800@friendsofinterstateandstraightlakeparks.org
SUMMARY:Maple Syrup - Nature Storytime
DESCRIPTION:Let’s learn about how maple syrup is made from natural resources. \nNature Storytime is led by volunteer Kathy S. and includes a short story and fun activities. Recommended for children ages 3 – 9. All children must be accompanied by an adult. Please dress appropriately for the weather\, as some activities might be outside.
URL:https://friendsofinterstateandstraightlakeparks.org/event/maple-syrup-nature-storytime/
LOCATION:Interstate Park – Ice Age Center\, 1275 State Hwy 35\, St. Croix Falls\, WI\, WI\, 54024\, United States
CATEGORIES:Nature Story Time,Program
ATTACH;FMTTYPE=image/jpeg:https://friendsofinterstateandstraightlakeparks.org/wp-content/uploads/2026/02/maple-syrup.jpg
END:VEVENT
BEGIN:VEVENT
DTSTART;TZID=America/Chicago:20260220T100000
DTEND;TZID=America/Chicago:20260220T113000
DTSTAMP:20260422T170349
CREATED:20260208T180731Z
LAST-MODIFIED:20260208T180731Z
UID:1228-1771581600-1771587000@friendsofinterstateandstraightlakeparks.org
SUMMARY:Follow the Tracks - Nature Storytime
DESCRIPTION:Let’s go outside and find some tracks to help us identify which animals have been out and about at Interstate! \nNature Storytime is led by volunteer Kathy S. and includes a short story and fun activities. Recommended for children ages 3 – 9. All children must be accompanied by an adult. Please dress appropriately for the weather\, as some activities might be outside.
URL:https://friendsofinterstateandstraightlakeparks.org/event/follow-the-tracks-nature-storytime/
LOCATION:Interstate Park – Ice Age Center\, 1275 State Hwy 35\, St. Croix Falls\, WI\, WI\, 54024\, United States
CATEGORIES:Nature Story Time,Program
ATTACH;FMTTYPE=image/jpeg:https://friendsofinterstateandstraightlakeparks.org/wp-content/uploads/2026/02/tracks.jpeg
END:VEVENT
BEGIN:VEVENT
DTSTART;TZID=America/Chicago:20260213T101500
DTEND;TZID=America/Chicago:20260213T113000
DTSTAMP:20260422T170349
CREATED:20260103T003805Z
LAST-MODIFIED:20260118T202617Z
UID:1024-1770977700-1770982200@friendsofinterstateandstraightlakeparks.org
SUMMARY:Amazing Adaptations! - Nature Storytime
DESCRIPTION:Learn about special adaptations used by plants and animals that enhance their ability to survive in the wild. The presentation will include live birds and a reptile to highlight some of these adaptations. \nJoin Christian W. Cold\, for a special Nature Storytime.  Mr. Cold is a retired wildlife technician and educator for the Wisconsin Department of Natural Resources\, Bureau of Wildlife Management. Based at Ladysmith\, he continues to serve as a mobile\, non-formal educator\, who travels extensively throughout Wisconsin offering programs on wildlife and related topics of natural history to schools and adult audiences. His presentations typically include the display and interpretation of live\, native animals which he maintains for this purpose. \nNature Storytime is led by volunteer Kathy S. and includes a short story and fun activities. Recommended for children ages 3 – 9. All children must be accompanied by an adult. Please dress appropriately for the weather\, as some activities might be outside.
URL:https://friendsofinterstateandstraightlakeparks.org/event/raptors-rescue-nature-storytime/
LOCATION:Interstate Park – Ice Age Center\, 1275 State Hwy 35\, St. Croix Falls\, WI\, WI\, 54024\, United States
CATEGORIES:Nature Story Time,Program
ATTACH;FMTTYPE=image/jpeg:https://friendsofinterstateandstraightlakeparks.org/wp-content/uploads/2026/01/Cole.jpg
END:VEVENT
BEGIN:VEVENT
DTSTART;TZID=America/Chicago:20260207T170000
DTEND;TZID=America/Chicago:20260207T200000
DTSTAMP:20260422T170349
CREATED:20260110T015007Z
LAST-MODIFIED:20260125T234004Z
UID:1059-1770483600-1770494400@friendsofinterstateandstraightlakeparks.org
SUMMARY:Candlelight Night
DESCRIPTION:Enjoy a winter evening at Interstate Park with hundreds of luminaries guiding your path. This event includes a one-mile loop for skiing\, snowshoeing\, and hiking. Park at the Ice Age Center for skiing. Park at the Camp Interstate Shelter for snowshoeing and hiking. Warming fires at all locations. Refreshments and kids’ activities will be at the Ice Age Interpretive Center. Arrive early\, as parking is limited at the Ice Age Center. Dress appropriately for the weather. Snowshoes will be available to borrow if there is enough snow. This event will be held rain or shine. The event will occur even if there is limited/no snow\, but all activities may not be available. \nA vehicle admission sticker is required. \nEvent Poster
URL:https://friendsofinterstateandstraightlakeparks.org/event/candlelight-night/
LOCATION:Interstate Park – Ice Age Center\, 1275 State Hwy 35\, St. Croix Falls\, WI\, WI\, 54024\, United States
CATEGORIES:Hiking,Skiing,Snowshoeing
ATTACH;FMTTYPE=image/jpeg:https://friendsofinterstateandstraightlakeparks.org/wp-content/uploads/2026/01/ski.jpg
END:VEVENT
BEGIN:VEVENT
DTSTART;TZID=America/Chicago:20260130T100000
DTEND;TZID=America/Chicago:20260130T113000
DTSTAMP:20260422T170349
CREATED:20260118T011205Z
LAST-MODIFIED:20260118T202546Z
UID:1111-1769767200-1769772600@friendsofinterstateandstraightlakeparks.org
SUMMARY:Raptor Rescues - Nature Storytime
DESCRIPTION:What raptors live at Interstate? We will learn about these carnivorous birds of prey and their importance in the ecosystem! We will also look learn about rescues as well as taking care of them so they stay safe in the wild. \nNature Storytime is led by volunteer Kathy S. and includes a short story and fun activities. Recommended for children ages 3 – 9. All children must be accompanied by an adult. Please dress appropriately for the weather\, as some activities might be outside.
URL:https://friendsofinterstateandstraightlakeparks.org/event/amazing-raptors/
LOCATION:Interstate Park – Ice Age Center\, 1275 State Hwy 35\, St. Croix Falls\, WI\, WI\, 54024\, United States
CATEGORIES:Nature Story Time,Program
ATTACH;FMTTYPE=image/jpeg:https://friendsofinterstateandstraightlakeparks.org/wp-content/uploads/2026/01/hawk.jpg
END:VEVENT
BEGIN:VEVENT
DTSTART;TZID=America/Chicago:20260123T100000
DTEND;TZID=America/Chicago:20260123T113000
DTSTAMP:20260422T170349
CREATED:20260103T002717Z
LAST-MODIFIED:20260118T010820Z
UID:1022-1769162400-1769167800@friendsofinterstateandstraightlakeparks.org
SUMMARY:Fun in the Snow! - Nature Storytime
DESCRIPTION:Let’s have fun in the snow with sledding and snow volcanoes. Finally\, we will enjoy some treats! \nNature Storytime is led by volunteer Kathy S. and includes a short story and fun activities. Recommended for children ages 3 – 9. All children must be accompanied by an adult. Please dress appropriately for the weather\, as some activities might be outside.
URL:https://friendsofinterstateandstraightlakeparks.org/event/fun-in-the-snow-nature-storytime/
LOCATION:Interstate Park – Ice Age Center\, 1275 State Hwy 35\, St. Croix Falls\, WI\, WI\, 54024\, United States
CATEGORIES:Nature Story Time,Program
ATTACH;FMTTYPE=image/jpeg:https://friendsofinterstateandstraightlakeparks.org/wp-content/uploads/2025/12/snowman.jpg
END:VEVENT
BEGIN:VEVENT
DTSTART;TZID=America/Chicago:20260116T100000
DTEND;TZID=America/Chicago:20260116T113000
DTSTAMP:20260422T170349
CREATED:20251214T140240Z
LAST-MODIFIED:20260103T002344Z
UID:1010-1768557600-1768563000@friendsofinterstateandstraightlakeparks.org
SUMMARY:Rocks! - Nature Storytime
DESCRIPTION:How are rocks made? Glacial Rocks\, where do they come from? \nNature Storytime is led by volunteer Kathy S. and includes a short story and fun activities. Recommended for children ages 3 – 5. All children must be accompanied by an adult. Please dress appropriately for the weather\, as some activities might be outside.
URL:https://friendsofinterstateandstraightlakeparks.org/event/snow-sculptures-and-volcanoes-nature-storytime/
LOCATION:Interstate Park – Ice Age Center\, 1275 State Hwy 35\, St. Croix Falls\, WI\, WI\, 54024\, United States
CATEGORIES:Nature Story Time,Program
ATTACH;FMTTYPE=image/jpeg:https://friendsofinterstateandstraightlakeparks.org/wp-content/uploads/2025/12/rock.jpg
END:VEVENT
BEGIN:VEVENT
DTSTART;TZID=America/Chicago:20260101T130000
DTEND;TZID=America/Chicago:20260101T150000
DTSTAMP:20260422T170349
CREATED:20251130T203733Z
LAST-MODIFIED:20251206T131958Z
UID:925-1767272400-1767279600@friendsofinterstateandstraightlakeparks.org
SUMMARY:First Day Hike - Straight Lake State Park
DESCRIPTION:Join Park Manager Hannah Cross on a mile-long hike on the Rainbow Lake Trail loop at Straight Lake State Park. As a group\, traverse the glacial terrain surrounding Rainbow Lake. This trail offers beautiful views of the lake and forest with some steep inclines. A warming fire will be at the parking lot\, as well as snacks and refreshments provided by the Friends of Interstate and Straight Lake State Parks. Be sure to dress for cold weather\, including hats\, gloves\, and warm jackets. There are no heated buildings at Straight Lake. Visitors are welcome to bring snowshoes if there is enough snow. Pets are welcome on the hike\, but must be under control and on a physical leash no longer than 8ft at all times. Valid vehicle admission is required for this event. Vehicle admission passes can be purchased at the event or in advance online. 
URL:https://friendsofinterstateandstraightlakeparks.org/event/first-day-hike-straight-lake-state-park/
LOCATION:Straight Lake State Park\, 2700 120th St.\, Luck\, WI\, 54853\, United States
CATEGORIES:Hiking
ATTACH;FMTTYPE=image/png:https://friendsofinterstateandstraightlakeparks.org/wp-content/uploads/2025/12/Hike-Promo.png
END:VEVENT
BEGIN:VEVENT
DTSTART;TZID=America/Chicago:20260101T130000
DTEND;TZID=America/Chicago:20260101T150000
DTSTAMP:20260422T170349
CREATED:20251129T155259Z
LAST-MODIFIED:20251206T132027Z
UID:902-1767272400-1767279600@friendsofinterstateandstraightlakeparks.org
SUMMARY:First Day Hike - Interstate Park
DESCRIPTION:Join Naturalist Maia Lieske on a mile-long winter hike along the Ojibwa Trail. As a group\, hike through pine and hardwood forest. A warming fire will be behind the Ice Age Interpretive Center. Snacks and refreshments provided by the Friends of Interstate and Straight Lake State Parks will be available within the Ice Age Interpretive Center. Be sure to dress for cold weather\, including hats\, gloves\, and warm jackets. Visitors are welcome to bring snowshoes if there is enough snow. Pets are welcome on the hike but must be under control and on a physical leash no longer than 8 feet at all times. Pets are not allowed within the Ice Age Interpretive Center. Valid vehicle admission is required for this event. Vehicle admission passes can be purchased at the park office or in advance online.
URL:https://friendsofinterstateandstraightlakeparks.org/event/first-day-hike-interstate/
LOCATION:Interstate Park – Ice Age Center\, 1275 State Hwy 35\, St. Croix Falls\, WI\, WI\, 54024\, United States
CATEGORIES:Hiking
ATTACH;FMTTYPE=image/png:https://friendsofinterstateandstraightlakeparks.org/wp-content/uploads/2025/12/Hike-Promo.png
END:VEVENT
BEGIN:VEVENT
DTSTART;TZID=America/Chicago:20251219T100000
DTEND;TZID=America/Chicago:20251219T113000
DTSTAMP:20260422T170349
CREATED:20251130T202344Z
LAST-MODIFIED:20251130T202741Z
UID:919-1766138400-1766143800@friendsofinterstateandstraightlakeparks.org
SUMMARY:Celebrate Winter Season - Nature Storytime
DESCRIPTION:Let’s go on a winter hike and enjoy some s’mores! \nNature Storytime is led by volunteer Kathy S. and includes a short story and fun activities. Recommended for children ages 3 – 5. All children must be accompanied by an adult. Please dress appropriately for the weather\, as some activities might be outside.
URL:https://friendsofinterstateandstraightlakeparks.org/event/celebrate-winter-season-nature-storytime/
LOCATION:Interstate Park – Ice Age Center\, 1275 State Hwy 35\, St. Croix Falls\, WI\, WI\, 54024\, United States
CATEGORIES:Nature Story Time,Program
ATTACH;FMTTYPE=image/jpeg:https://friendsofinterstateandstraightlakeparks.org/wp-content/uploads/2025/11/smore.jpg
END:VEVENT
BEGIN:VEVENT
DTSTART;TZID=America/Chicago:20251212T100000
DTEND;TZID=America/Chicago:20251212T113000
DTSTAMP:20260422T170349
CREATED:20251130T201838Z
LAST-MODIFIED:20251130T201838Z
UID:916-1765533600-1765539000@friendsofinterstateandstraightlakeparks.org
SUMMARY:Animal Engineers - Nature Storytime
DESCRIPTION:Ants\, beavers\, and spiders – learn about the creatures who make amazing animal structures! \nNature Storytime is led by volunteer Kathy S. and includes a short story and fun activities. Recommended for children ages 3 – 5. All children must be accompanied by an adult. Please dress appropriately for the weather\, as some activities might be outside.
URL:https://friendsofinterstateandstraightlakeparks.org/event/animal-engineers-nature-storytime/
LOCATION:Interstate Park – Ice Age Center\, 1275 State Hwy 35\, St. Croix Falls\, WI\, WI\, 54024\, United States
CATEGORIES:Nature Story Time,Program
ATTACH;FMTTYPE=image/jpeg:https://friendsofinterstateandstraightlakeparks.org/wp-content/uploads/2025/11/spiderweb.jpg
END:VEVENT
BEGIN:VEVENT
DTSTART;TZID=America/Chicago:20251205T100000
DTEND;TZID=America/Chicago:20251205T113000
DTSTAMP:20260422T170349
CREATED:20251130T201055Z
LAST-MODIFIED:20251130T201055Z
UID:913-1764928800-1764934200@friendsofinterstateandstraightlakeparks.org
SUMMARY:Water Animals - Nature Storytime
DESCRIPTION:Let’s learn about how water animals live in the winter! Do they hibernate? \nNature Storytime is led by volunteer Kathy S. and includes a short story and fun activities. Recommended for children ages 3 – 5. All children must be accompanied by an adult. Please dress appropriately for the weather\, as some activities might be outside.
URL:https://friendsofinterstateandstraightlakeparks.org/event/water-animals-nature-storytime/
LOCATION:Interstate Park – Ice Age Center\, 1275 State Hwy 35\, St. Croix Falls\, WI\, WI\, 54024\, United States
CATEGORIES:Nature Story Time,Program
ATTACH;FMTTYPE=image/jpeg:https://friendsofinterstateandstraightlakeparks.org/wp-content/uploads/2025/11/beaver.jpg
END:VEVENT
END:VCALENDAR