BEGIN:VCALENDAR
VERSION:2.0
PRODID:-//Friends of Wisconsin Interstate Park and Straight Lake State Park - ECPv6.15.20//NONSGML v1.0//EN
CALSCALE:GREGORIAN
METHOD:PUBLISH
X-WR-CALNAME:Friends of Wisconsin Interstate Park and Straight Lake State Park
X-ORIGINAL-URL:https://friendsofinterstateandstraightlakeparks.org
X-WR-CALDESC:Events for Friends of Wisconsin Interstate Park and Straight Lake State Park
REFRESH-INTERVAL;VALUE=DURATION:PT1H
X-Robots-Tag:noindex
X-PUBLISHED-TTL:PT1H
BEGIN:VTIMEZONE
TZID:America/Chicago
BEGIN:DAYLIGHT
TZOFFSETFROM:-0600
TZOFFSETTO:-0500
TZNAME:CDT
DTSTART:20250309T080000
END:DAYLIGHT
BEGIN:STANDARD
TZOFFSETFROM:-0500
TZOFFSETTO:-0600
TZNAME:CST
DTSTART:20251102T070000
END:STANDARD
BEGIN:DAYLIGHT
TZOFFSETFROM:-0600
TZOFFSETTO:-0500
TZNAME:CDT
DTSTART:20260308T080000
END:DAYLIGHT
BEGIN:STANDARD
TZOFFSETFROM:-0500
TZOFFSETTO:-0600
TZNAME:CST
DTSTART:20261101T070000
END:STANDARD
BEGIN:DAYLIGHT
TZOFFSETFROM:-0600
TZOFFSETTO:-0500
TZNAME:CDT
DTSTART:20270314T080000
END:DAYLIGHT
BEGIN:STANDARD
TZOFFSETFROM:-0500
TZOFFSETTO:-0600
TZNAME:CST
DTSTART:20271107T070000
END:STANDARD
END:VTIMEZONE
BEGIN:VEVENT
DTSTART;VALUE=DATE:20260606
DTEND;VALUE=DATE:20260608
DTSTAMP:20260422T170452
CREATED:20260404T020921Z
LAST-MODIFIED:20260404T021007Z
UID:1699-1780704000-1780876799@friendsofinterstateandstraightlakeparks.org
SUMMARY:WI DNR Open House Free Fun Weekend - Interstate Park
DESCRIPTION:During the first weekend in June\, Free Fun Weekend (Wisconsin State Parks) lets you explore Wisconsin’s outdoors with park admission\, fishing licenses\, and trail passes waived. (Please note\, all fishing regulations remain in place.) \nCheck back for more information as it becomes available.
URL:https://friendsofinterstateandstraightlakeparks.org/event/wi-dnr-open-house-free-fun-weekend/
LOCATION:Interstate Park\, 1275 State Hwy 35\, St. Croix Falls\, WI\, WI\, 54024\, United States
CATEGORIES:Free Fun Weekend
ATTACH;FMTTYPE=image/webp:https://friendsofinterstateandstraightlakeparks.org/wp-content/uploads/2026/04/Wisconsin-DNR-corrected.webp
END:VEVENT
BEGIN:VEVENT
DTSTART;VALUE=DATE:20260606
DTEND;VALUE=DATE:20260608
DTSTAMP:20260422T170452
CREATED:20260404T021116Z
LAST-MODIFIED:20260404T021116Z
UID:1703-1780704000-1780876799@friendsofinterstateandstraightlakeparks.org
SUMMARY:WI DNR Open House Free Fun Weekend - Straight Lake State Park
DESCRIPTION:During the first weekend in June\, Free Fun Weekend (Wisconsin State Parks) lets you explore Wisconsin’s outdoors with park admission\, fishing licenses\, and trail passes waived. (Please note\, all fishing regulations remain in place.) \nCheck back for more information as it becomes available.
URL:https://friendsofinterstateandstraightlakeparks.org/event/wi-dnr-open-house-free-fun-weekend-straight-lake-state-park/
LOCATION:Straight Lake State Park\, 2700 120th St.\, Luck\, WI\, 54853\, United States
CATEGORIES:Free Fun Weekend
ATTACH;FMTTYPE=image/webp:https://friendsofinterstateandstraightlakeparks.org/wp-content/uploads/2026/04/Wisconsin-DNR-corrected.webp
END:VEVENT
BEGIN:VEVENT
DTSTART;TZID=America/Chicago:20260606T130000
DTEND;TZID=America/Chicago:20260606T140000
DTSTAMP:20260422T170452
CREATED:20260409T174946Z
LAST-MODIFIED:20260409T174946Z
UID:1762-1780750800-1780754400@friendsofinterstateandstraightlakeparks.org
SUMMARY:Fam\, the Remarkable Story of a Canada Goose Adopted by Sandhill Cranes
DESCRIPTION:A pair of Sandhill Cranes arrived in their backyard with a colt—and a surprise companion\, a Canada gosling! Over three years\, they followed this remarkable blended family\, the program will include a reading of the book and lead related activities for participants.
URL:https://friendsofinterstateandstraightlakeparks.org/event/fam-the-remarkable-story-of-a-canada-goose-adopted-by-sandhill-cranes/
LOCATION:Interstate Park – Ice Age Center\, 1275 State Hwy 35\, St. Croix Falls\, WI\, WI\, 54024\, United States
CATEGORIES:Birds,Free Fun Weekend,Program
ATTACH;FMTTYPE=image/webp:https://friendsofinterstateandstraightlakeparks.org/wp-content/uploads/2026/04/sandhill_goose.webp
END:VEVENT
BEGIN:VEVENT
DTSTART;TZID=America/Chicago:20260607T130000
DTEND;TZID=America/Chicago:20260607T140000
DTSTAMP:20260422T170452
CREATED:20260404T022655Z
LAST-MODIFIED:20260404T023031Z
UID:1705-1780837200-1780840800@friendsofinterstateandstraightlakeparks.org
SUMMARY:Meet the Bugs
DESCRIPTION:Meet the Bugs with Bruce the Bug Guy! 🐞 \nA fun\, interactive program for all ages will explore the amazing world of insects through fun stories\, fascinating facts\, hands-on activities\, and an up-close look at LIVE critters from the Arthropod Zoo in this 45–50 minute interactive program.
URL:https://friendsofinterstateandstraightlakeparks.org/event/meet-the-bugs/
LOCATION:Interstate Park – Ice Age Center\, 1275 State Hwy 35\, St. Croix Falls\, WI\, WI\, 54024\, United States
CATEGORIES:Free Fun Weekend,Program
ATTACH;FMTTYPE=image/jpeg:https://friendsofinterstateandstraightlakeparks.org/wp-content/uploads/2026/04/IMG_0620.jpg
END:VEVENT
BEGIN:VEVENT
DTSTART;TZID=America/Chicago:20260621T100000
DTEND;TZID=America/Chicago:20260621T140000
DTSTAMP:20260422T170452
CREATED:20260331T011901Z
LAST-MODIFIED:20260417T153842Z
UID:1696-1782036000-1782050400@friendsofinterstateandstraightlakeparks.org
SUMMARY:Father's Day Celebration
DESCRIPTION:This will be our third year offering these special programs\, and we are excited to continue the tradition.  Stop in the Ice Age Interpretive Center to celebrate Father’s Day.  We will be featuring a variety of creative activities designed especially for families and children.  Activities include fun crafts and a small gift for dads to make the day even more memorable.
URL:https://friendsofinterstateandstraightlakeparks.org/event/fathers-day-celebration/
LOCATION:Interstate Park – Ice Age Center\, 1275 State Hwy 35\, St. Croix Falls\, WI\, WI\, 54024\, United States
CATEGORIES:Drop In
ATTACH;FMTTYPE=image/jpeg:https://friendsofinterstateandstraightlakeparks.org/wp-content/uploads/2026/03/fathersday.jpeg
END:VEVENT
BEGIN:VEVENT
DTSTART;TZID=America/Chicago:20260725T073000
DTEND;TZID=America/Chicago:20260725T100000
DTSTAMP:20260422T170452
CREATED:20260404T150627Z
LAST-MODIFIED:20260404T150627Z
UID:1710-1784964600-1784973600@friendsofinterstateandstraightlakeparks.org
SUMMARY:6th Annual Ice to Water Race
DESCRIPTION:Get ready for the 6th Annual Ice to Water Race at Interstate Park! This fun\, family-friendly event invites runners and walkers of all ages to enjoy scenic trails\, celebrate summer\, and embrace the outdoors. Whether you’re racing\, strolling\, or cheering from the sidelines\, it’s a great way to connect with nature and your community while having a blast in the beautiful park setting. \nCheck back for more information later in the season!
URL:https://friendsofinterstateandstraightlakeparks.org/event/6th-annual-ice-to-water-race/
LOCATION:Interstate Park\, 1275 State Hwy 35\, St. Croix Falls\, WI\, WI\, 54024\, United States
CATEGORIES:Events
ATTACH;FMTTYPE=image/jpeg:https://friendsofinterstateandstraightlakeparks.org/wp-content/uploads/2026/04/race.jpg
END:VEVENT
BEGIN:VEVENT
DTSTART;TZID=America/Chicago:20260815T143000
DTEND;TZID=America/Chicago:20260815T160000
DTSTAMP:20260422T170452
CREATED:20260404T151133Z
LAST-MODIFIED:20260404T151133Z
UID:1713-1786804200-1786809600@friendsofinterstateandstraightlakeparks.org
SUMMARY:Snake Discovery!
DESCRIPTION:Join us at Interstate Park -Ice Age Interpretive Center for an exciting afternoon of reptiles and amphibians! You will get an opportunity to watch a salamander eat\, debunk turtle myths\, touch live snakes and more! The Snake Discovery center will bring a tiger salamander\, 1-2 native turtles\, 3-4 native snakes\, and 2-4 exotic reptiles (just for fun). A large boa constrictor makes an appearance as well. Time is reserved after the presentation to touch and hold the reptiles for a truly hands-on experience.
URL:https://friendsofinterstateandstraightlakeparks.org/event/snake-discovery/
LOCATION:Interstate Park – Ice Age Center\, 1275 State Hwy 35\, St. Croix Falls\, WI\, WI\, 54024\, United States
CATEGORIES:Events,Fauna,Program,Reptiles/Amphibians
ATTACH;FMTTYPE=image/jpeg:https://friendsofinterstateandstraightlakeparks.org/wp-content/uploads/2026/04/snake.jpg
END:VEVENT
END:VCALENDAR