BEGIN:VCALENDAR
VERSION:2.0
PRODID:-//Friends of Wisconsin Interstate Park and Straight Lake State Park - ECPv6.15.20//NONSGML v1.0//EN
CALSCALE:GREGORIAN
METHOD:PUBLISH
X-WR-CALNAME:Friends of Wisconsin Interstate Park and Straight Lake State Park
X-ORIGINAL-URL:https://friendsofinterstateandstraightlakeparks.org
X-WR-CALDESC:Events for Friends of Wisconsin Interstate Park and Straight Lake State Park
REFRESH-INTERVAL;VALUE=DURATION:PT1H
X-Robots-Tag:noindex
X-PUBLISHED-TTL:PT1H
BEGIN:VTIMEZONE
TZID:America/Chicago
BEGIN:DAYLIGHT
TZOFFSETFROM:-0600
TZOFFSETTO:-0500
TZNAME:CDT
DTSTART:20240310T080000
END:DAYLIGHT
BEGIN:STANDARD
TZOFFSETFROM:-0500
TZOFFSETTO:-0600
TZNAME:CST
DTSTART:20241103T070000
END:STANDARD
BEGIN:DAYLIGHT
TZOFFSETFROM:-0600
TZOFFSETTO:-0500
TZNAME:CDT
DTSTART:20250309T080000
END:DAYLIGHT
BEGIN:STANDARD
TZOFFSETFROM:-0500
TZOFFSETTO:-0600
TZNAME:CST
DTSTART:20251102T070000
END:STANDARD
BEGIN:DAYLIGHT
TZOFFSETFROM:-0600
TZOFFSETTO:-0500
TZNAME:CDT
DTSTART:20260308T080000
END:DAYLIGHT
BEGIN:STANDARD
TZOFFSETFROM:-0500
TZOFFSETTO:-0600
TZNAME:CST
DTSTART:20261101T070000
END:STANDARD
BEGIN:DAYLIGHT
TZOFFSETFROM:-0600
TZOFFSETTO:-0500
TZNAME:CDT
DTSTART:20270314T080000
END:DAYLIGHT
BEGIN:STANDARD
TZOFFSETFROM:-0500
TZOFFSETTO:-0600
TZNAME:CST
DTSTART:20271107T070000
END:STANDARD
END:VTIMEZONE
BEGIN:VEVENT
DTSTART;TZID=America/Chicago:20260116T100000
DTEND;TZID=America/Chicago:20260116T113000
DTSTAMP:20260422T173759
CREATED:20251214T140240Z
LAST-MODIFIED:20260103T002344Z
UID:1010-1768557600-1768563000@friendsofinterstateandstraightlakeparks.org
SUMMARY:Rocks! - Nature Storytime
DESCRIPTION:How are rocks made? Glacial Rocks\, where do they come from? \nNature Storytime is led by volunteer Kathy S. and includes a short story and fun activities. Recommended for children ages 3 – 5. All children must be accompanied by an adult. Please dress appropriately for the weather\, as some activities might be outside.
URL:https://friendsofinterstateandstraightlakeparks.org/event/snow-sculptures-and-volcanoes-nature-storytime/
LOCATION:Interstate Park – Ice Age Center\, 1275 State Hwy 35\, St. Croix Falls\, WI\, WI\, 54024\, United States
CATEGORIES:Nature Story Time,Program
ATTACH;FMTTYPE=image/jpeg:https://friendsofinterstateandstraightlakeparks.org/wp-content/uploads/2025/12/rock.jpg
END:VEVENT
BEGIN:VEVENT
DTSTART;TZID=America/Chicago:20260101T130000
DTEND;TZID=America/Chicago:20260101T150000
DTSTAMP:20260422T173759
CREATED:20251130T203733Z
LAST-MODIFIED:20251206T131958Z
UID:925-1767272400-1767279600@friendsofinterstateandstraightlakeparks.org
SUMMARY:First Day Hike - Straight Lake State Park
DESCRIPTION:Join Park Manager Hannah Cross on a mile-long hike on the Rainbow Lake Trail loop at Straight Lake State Park. As a group\, traverse the glacial terrain surrounding Rainbow Lake. This trail offers beautiful views of the lake and forest with some steep inclines. A warming fire will be at the parking lot\, as well as snacks and refreshments provided by the Friends of Interstate and Straight Lake State Parks. Be sure to dress for cold weather\, including hats\, gloves\, and warm jackets. There are no heated buildings at Straight Lake. Visitors are welcome to bring snowshoes if there is enough snow. Pets are welcome on the hike\, but must be under control and on a physical leash no longer than 8ft at all times. Valid vehicle admission is required for this event. Vehicle admission passes can be purchased at the event or in advance online. 
URL:https://friendsofinterstateandstraightlakeparks.org/event/first-day-hike-straight-lake-state-park/
LOCATION:Straight Lake State Park\, 2700 120th St.\, Luck\, WI\, 54853\, United States
CATEGORIES:Hiking
ATTACH;FMTTYPE=image/png:https://friendsofinterstateandstraightlakeparks.org/wp-content/uploads/2025/12/Hike-Promo.png
END:VEVENT
BEGIN:VEVENT
DTSTART;TZID=America/Chicago:20260101T130000
DTEND;TZID=America/Chicago:20260101T150000
DTSTAMP:20260422T173759
CREATED:20251129T155259Z
LAST-MODIFIED:20251206T132027Z
UID:902-1767272400-1767279600@friendsofinterstateandstraightlakeparks.org
SUMMARY:First Day Hike - Interstate Park
DESCRIPTION:Join Naturalist Maia Lieske on a mile-long winter hike along the Ojibwa Trail. As a group\, hike through pine and hardwood forest. A warming fire will be behind the Ice Age Interpretive Center. Snacks and refreshments provided by the Friends of Interstate and Straight Lake State Parks will be available within the Ice Age Interpretive Center. Be sure to dress for cold weather\, including hats\, gloves\, and warm jackets. Visitors are welcome to bring snowshoes if there is enough snow. Pets are welcome on the hike but must be under control and on a physical leash no longer than 8 feet at all times. Pets are not allowed within the Ice Age Interpretive Center. Valid vehicle admission is required for this event. Vehicle admission passes can be purchased at the park office or in advance online.
URL:https://friendsofinterstateandstraightlakeparks.org/event/first-day-hike-interstate/
LOCATION:Interstate Park – Ice Age Center\, 1275 State Hwy 35\, St. Croix Falls\, WI\, WI\, 54024\, United States
CATEGORIES:Hiking
ATTACH;FMTTYPE=image/png:https://friendsofinterstateandstraightlakeparks.org/wp-content/uploads/2025/12/Hike-Promo.png
END:VEVENT
BEGIN:VEVENT
DTSTART;TZID=America/Chicago:20251219T100000
DTEND;TZID=America/Chicago:20251219T113000
DTSTAMP:20260422T173759
CREATED:20251130T202344Z
LAST-MODIFIED:20251130T202741Z
UID:919-1766138400-1766143800@friendsofinterstateandstraightlakeparks.org
SUMMARY:Celebrate Winter Season - Nature Storytime
DESCRIPTION:Let’s go on a winter hike and enjoy some s’mores! \nNature Storytime is led by volunteer Kathy S. and includes a short story and fun activities. Recommended for children ages 3 – 5. All children must be accompanied by an adult. Please dress appropriately for the weather\, as some activities might be outside.
URL:https://friendsofinterstateandstraightlakeparks.org/event/celebrate-winter-season-nature-storytime/
LOCATION:Interstate Park – Ice Age Center\, 1275 State Hwy 35\, St. Croix Falls\, WI\, WI\, 54024\, United States
CATEGORIES:Nature Story Time,Program
ATTACH;FMTTYPE=image/jpeg:https://friendsofinterstateandstraightlakeparks.org/wp-content/uploads/2025/11/smore.jpg
END:VEVENT
BEGIN:VEVENT
DTSTART;TZID=America/Chicago:20251212T100000
DTEND;TZID=America/Chicago:20251212T113000
DTSTAMP:20260422T173759
CREATED:20251130T201838Z
LAST-MODIFIED:20251130T201838Z
UID:916-1765533600-1765539000@friendsofinterstateandstraightlakeparks.org
SUMMARY:Animal Engineers - Nature Storytime
DESCRIPTION:Ants\, beavers\, and spiders – learn about the creatures who make amazing animal structures! \nNature Storytime is led by volunteer Kathy S. and includes a short story and fun activities. Recommended for children ages 3 – 5. All children must be accompanied by an adult. Please dress appropriately for the weather\, as some activities might be outside.
URL:https://friendsofinterstateandstraightlakeparks.org/event/animal-engineers-nature-storytime/
LOCATION:Interstate Park – Ice Age Center\, 1275 State Hwy 35\, St. Croix Falls\, WI\, WI\, 54024\, United States
CATEGORIES:Nature Story Time,Program
ATTACH;FMTTYPE=image/jpeg:https://friendsofinterstateandstraightlakeparks.org/wp-content/uploads/2025/11/spiderweb.jpg
END:VEVENT
BEGIN:VEVENT
DTSTART;TZID=America/Chicago:20251205T100000
DTEND;TZID=America/Chicago:20251205T113000
DTSTAMP:20260422T173759
CREATED:20251130T201055Z
LAST-MODIFIED:20251130T201055Z
UID:913-1764928800-1764934200@friendsofinterstateandstraightlakeparks.org
SUMMARY:Water Animals - Nature Storytime
DESCRIPTION:Let’s learn about how water animals live in the winter! Do they hibernate? \nNature Storytime is led by volunteer Kathy S. and includes a short story and fun activities. Recommended for children ages 3 – 5. All children must be accompanied by an adult. Please dress appropriately for the weather\, as some activities might be outside.
URL:https://friendsofinterstateandstraightlakeparks.org/event/water-animals-nature-storytime/
LOCATION:Interstate Park – Ice Age Center\, 1275 State Hwy 35\, St. Croix Falls\, WI\, WI\, 54024\, United States
CATEGORIES:Nature Story Time,Program
ATTACH;FMTTYPE=image/jpeg:https://friendsofinterstateandstraightlakeparks.org/wp-content/uploads/2025/11/beaver.jpg
END:VEVENT
END:VCALENDAR